BEGIN:VCALENDAR
VERSION:2.0
PRODID:-//Unitre San Mauro//NONSGML kigkonsult.se iCalcreator 2.30.10//
CALSCALE:GREGORIAN
METHOD:PUBLISH
UID:3ffdd619-0899-4625-9fa8-6682381e50f0
X-WR-CALNAME:iCagenda
X-WR-CALDESC:Event Management Extension for Joomla!
X-WR-RELCALID:3E26604A-50F4-4449-8B3E-E4F4932D05B5
X-WR-TIMEZONE:UTC
BEGIN:VTIMEZONE
TZID:UTC
END:VTIMEZONE
BEGIN:VEVENT
UID:afd93b09-0bb1-4eea-acc2-0fe7307a6f16
DTSTAMP:20260424T212716Z
CATEGORIES:Corsi e incontri
CLASS:PUBLIC
DESCRIPTION:
DTSTART:20250211T160000Z
DTEND:20250211T160000Z
GEO:00;0
LOCATION:
ORGANIZER:
SEQUENCE:1
SUMMARY:Fisioterapia e riabilitazione: il dolore muscoloscheletrico
TRANSP:OPAQUE
URL:https://www.unitresanmauro.it/index.php/component/icagenda/154-fisioter
 apia-e-riabilitazione-il-dolore-muscoloscheletrico/2025-02-11-16-00
END:VEVENT
END:VCALENDAR
