BEGIN:VCALENDAR
VERSION:2.0
PRODID:-//Unitre San Mauro//NONSGML kigkonsult.se iCalcreator 2.30.10//
CALSCALE:GREGORIAN
METHOD:PUBLISH
UID:d187f851-65ed-4448-900d-66afcf09dbd1
X-WR-CALNAME:iCagenda
X-WR-CALDESC:Event Management Extension for Joomla!
X-WR-RELCALID:3E26604A-50F4-4449-8B3E-E4F4932D05B5
X-WR-TIMEZONE:UTC
BEGIN:VTIMEZONE
TZID:UTC
END:VTIMEZONE
BEGIN:VEVENT
UID:9e6b5c75-8bf0-4f52-96c2-1df0c724a2a7
DTSTAMP:20260424T194626Z
CATEGORIES:Corsi e incontri
CLASS:PUBLIC
DESCRIPTION:
DTSTART:20250311T160000Z
DTEND:20250311T160000Z
GEO:00;0
LOCATION:
ORGANIZER:
SEQUENCE:1
SUMMARY:Fisioterapia e riabilitazione: il dolore muscoloscheletrico
TRANSP:OPAQUE
URL:https://www.unitresanmauro.it/index.php/component/icagenda/154-fisioter
 apia-e-riabilitazione-il-dolore-muscoloscheletrico/2025-03-11-16-00
END:VEVENT
END:VCALENDAR
