BEGIN:VCALENDAR
VERSION:2.0
PRODID:-//Unitre San Mauro//NONSGML kigkonsult.se iCalcreator 2.30.10//
CALSCALE:GREGORIAN
METHOD:PUBLISH
UID:11835319-65f3-4588-9815-acff9de267ab
X-WR-CALNAME:iCagenda
X-WR-CALDESC:Event Management Extension for Joomla!
X-WR-RELCALID:3E26604A-50F4-4449-8B3E-E4F4932D05B5
X-WR-TIMEZONE:UTC
BEGIN:VTIMEZONE
TZID:UTC
END:VTIMEZONE
BEGIN:VEVENT
UID:c7c1893f-38a9-4c85-a439-be787def6e6d
DTSTAMP:20260424T194601Z
CATEGORIES:Corsi e incontri
CLASS:PUBLIC
DESCRIPTION:
DTSTART:20250325T160000Z
DTEND:20250325T160000Z
GEO:00;0
LOCATION:
ORGANIZER:
SEQUENCE:1
SUMMARY:Fisioterapia e riabilitazione: il dolore muscoloscheletrico
TRANSP:OPAQUE
URL:https://www.unitresanmauro.it/index.php/component/icagenda/154-fisioter
 apia-e-riabilitazione-il-dolore-muscoloscheletrico/2025-03-25-16-00
END:VEVENT
END:VCALENDAR
