BEGIN:VCALENDAR
VERSION:2.0
PRODID:-//Unitre San Mauro//NONSGML kigkonsult.se iCalcreator 2.30.10//
CALSCALE:GREGORIAN
METHOD:PUBLISH
UID:09d0518b-b3b8-43e3-991c-392da04c394e
X-WR-CALNAME:iCagenda
X-WR-CALDESC:Event Management Extension for Joomla!
X-WR-RELCALID:3E26604A-50F4-4449-8B3E-E4F4932D05B5
X-WR-TIMEZONE:UTC
BEGIN:VTIMEZONE
TZID:UTC
END:VTIMEZONE
BEGIN:VEVENT
UID:44071f40-6347-4c5a-a924-faf079d2d120
DTSTAMP:20260424T175301Z
CATEGORIES:Corsi e incontri
CLASS:PUBLIC
DESCRIPTION:
DTSTART:20260303T160000Z
DTEND:20260303T160000Z
GEO:00;0
LOCATION:
ORGANIZER:
SEQUENCE:1
SUMMARY:Il Piemonte dalla ricostruzione al boom economico - 1946 - 1963
TRANSP:OPAQUE
URL:https://www.unitresanmauro.it/index.php/component/icagenda/155-il-piemo
 nte-nella-seconda-guerra-mondiale/2026-03-03-16-00
END:VEVENT
END:VCALENDAR
