BEGIN:VCALENDAR
VERSION:2.0
PRODID:-//Unitre San Mauro//NONSGML kigkonsult.se iCalcreator 2.30.10//
CALSCALE:GREGORIAN
METHOD:PUBLISH
UID:212c6589-e2e5-42b2-9883-8efabcfc7302
X-WR-CALNAME:iCagenda
X-WR-CALDESC:Event Management Extension for Joomla!
X-WR-RELCALID:3E26604A-50F4-4449-8B3E-E4F4932D05B5
X-WR-TIMEZONE:UTC
BEGIN:VTIMEZONE
TZID:UTC
END:VTIMEZONE
BEGIN:VEVENT
UID:29d93f90-c3e5-4128-a21c-c0258d7a60ee
DTSTAMP:20260425T003904Z
CATEGORIES:Corsi e incontri
CLASS:PUBLIC
DESCRIPTION:
DTSTART:20241217T160000Z
DTEND:20241217T180000Z
GEO:00;0
LOCATION:
ORGANIZER:
SEQUENCE:1
SUMMARY:La Tiroide tra falsi miti e realtà: l'osteoporosi: una malattia sil
 enziosa
TRANSP:OPAQUE
URL:https://www.unitresanmauro.it/index.php/component/icagenda/156-la-tiroi
 de-tra-falsi-miti-e-realta-losteoporosi-una-malattia-silenziosa/2024-12-17
 -16-00
END:VEVENT
END:VCALENDAR
