BEGIN:VCALENDAR
VERSION:2.0
PRODID:-//Unitre San Mauro//NONSGML kigkonsult.se iCalcreator 2.30.10//
CALSCALE:GREGORIAN
METHOD:PUBLISH
UID:51bc0127-bb70-49d3-a70e-e6cf52f1cdfa
X-WR-CALNAME:iCagenda
X-WR-CALDESC:Event Management Extension for Joomla!
X-WR-RELCALID:3E26604A-50F4-4449-8B3E-E4F4932D05B5
X-WR-TIMEZONE:UTC
BEGIN:VTIMEZONE
TZID:UTC
END:VTIMEZONE
BEGIN:VEVENT
UID:d0978d3a-277e-41f4-b374-2e94f14eb602
DTSTAMP:20260425T043055Z
CATEGORIES:Corsi e incontri
CLASS:PUBLIC
DESCRIPTION:
DTSTART:20251007T093000Z
DTEND:20251007T113000Z
GEO:00;0
LOCATION:
ORGANIZER:
SEQUENCE:1
SUMMARY:Momenti di lettura: autori vari-
TRANSP:OPAQUE
URL:https://www.unitresanmauro.it/index.php/component/icagenda/157-momenti-
 di-lettura-autori-vari/2025-10-07-09-30
END:VEVENT
END:VCALENDAR
