BEGIN:VCALENDAR
VERSION:2.0
PRODID:-//Unitre San Mauro//NONSGML kigkonsult.se iCalcreator 2.30.10//
CALSCALE:GREGORIAN
METHOD:PUBLISH
UID:90d6acdb-901e-4118-b025-66c9e787407d
X-WR-CALNAME:iCagenda
X-WR-CALDESC:Event Management Extension for Joomla!
X-WR-RELCALID:3E26604A-50F4-4449-8B3E-E4F4932D05B5
X-WR-TIMEZONE:UTC
BEGIN:VTIMEZONE
TZID:UTC
END:VTIMEZONE
BEGIN:VEVENT
UID:a4f838f7-c54c-4d4d-aa5a-9279e0a4a905
DTSTAMP:20260425T043056Z
CATEGORIES:Corsi e incontri
CLASS:PUBLIC
DESCRIPTION:
DTSTART:20251021T093000Z
DTEND:20251021T093000Z
GEO:00;0
LOCATION:
ORGANIZER:
SEQUENCE:1
SUMMARY:Momenti di lettura: autori vari-
TRANSP:OPAQUE
URL:https://www.unitresanmauro.it/index.php/component/icagenda/157-momenti-
 di-lettura-autori-vari/2025-10-21-09-30
END:VEVENT
END:VCALENDAR
