BEGIN:VCALENDAR
VERSION:2.0
PRODID:-//Unitre San Mauro//NONSGML kigkonsult.se iCalcreator 2.30.10//
CALSCALE:GREGORIAN
METHOD:PUBLISH
UID:623a4371-e176-43a5-8a72-c3de8d83a6b8
X-WR-CALNAME:iCagenda
X-WR-CALDESC:Event Management Extension for Joomla!
X-WR-RELCALID:3E26604A-50F4-4449-8B3E-E4F4932D05B5
X-WR-TIMEZONE:UTC
BEGIN:VTIMEZONE
TZID:UTC
END:VTIMEZONE
BEGIN:VEVENT
UID:20c7fc56-0b88-47e9-9f38-8d3899d51c8a
DTSTAMP:20260425T043056Z
CATEGORIES:Corsi e incontri
CLASS:PUBLIC
DESCRIPTION:
DTSTART:20251104T093000Z
DTEND:20251104T093000Z
GEO:00;0
LOCATION:
ORGANIZER:
SEQUENCE:1
SUMMARY:Momenti di lettura: autori vari-
TRANSP:OPAQUE
URL:https://www.unitresanmauro.it/index.php/component/icagenda/157-momenti-
 di-lettura-autori-vari/2025-11-04-09-30
END:VEVENT
END:VCALENDAR
