BEGIN:VCALENDAR
VERSION:2.0
PRODID:-//Unitre San Mauro//NONSGML kigkonsult.se iCalcreator 2.30.10//
CALSCALE:GREGORIAN
METHOD:PUBLISH
UID:7b44a8b7-a074-442c-b1a7-5a786a4307c5
X-WR-CALNAME:iCagenda
X-WR-CALDESC:Event Management Extension for Joomla!
X-WR-RELCALID:3E26604A-50F4-4449-8B3E-E4F4932D05B5
X-WR-TIMEZONE:UTC
BEGIN:VTIMEZONE
TZID:UTC
END:VTIMEZONE
BEGIN:VEVENT
UID:8f40fc5e-93fb-472e-bcbe-3dba66ff9684
DTSTAMP:20260425T043055Z
CATEGORIES:Corsi e incontri
CLASS:PUBLIC
DESCRIPTION:
DTSTART:20251118T093000Z
DTEND:20251118T093000Z
GEO:00;0
LOCATION:
ORGANIZER:
SEQUENCE:1
SUMMARY:Momenti di lettura: autori vari-
TRANSP:OPAQUE
URL:https://www.unitresanmauro.it/index.php/component/icagenda/157-momenti-
 di-lettura-autori-vari/2025-11-18-09-30
END:VEVENT
END:VCALENDAR
