BEGIN:VCALENDAR
VERSION:2.0
PRODID:-//Unitre San Mauro//NONSGML kigkonsult.se iCalcreator 2.30.10//
CALSCALE:GREGORIAN
METHOD:PUBLISH
UID:4ec0cf12-1109-4a95-9e12-7ecc4fdd947f
X-WR-CALNAME:iCagenda
X-WR-CALDESC:Event Management Extension for Joomla!
X-WR-RELCALID:3E26604A-50F4-4449-8B3E-E4F4932D05B5
X-WR-TIMEZONE:UTC
BEGIN:VTIMEZONE
TZID:UTC
END:VTIMEZONE
BEGIN:VEVENT
UID:32a7e077-5ca3-4a90-8700-5fcdfd984293
DTSTAMP:20260422T150510Z
CATEGORIES:Corsi e incontri
CLASS:PUBLIC
DESCRIPTION:
DTSTART:20260421T160000Z
DTEND:20260421T160000Z
GEO:00;0
LOCATION:
ORGANIZER:
SEQUENCE:1
SUMMARY:Passeggiate virtuali per Torino
TRANSP:OPAQUE
URL:https://www.unitresanmauro.it/index.php/component/icagenda/158-passeggi
 ate-virtuali-dimore-sabaude-patrimonio-unesco/2026-04-21-16-00
END:VEVENT
END:VCALENDAR
