BEGIN:VCALENDAR
VERSION:2.0
PRODID:-//Unitre San Mauro//NONSGML kigkonsult.se iCalcreator 2.30.10//
CALSCALE:GREGORIAN
METHOD:PUBLISH
UID:4471475a-9a8c-44d2-a284-60096007558e
X-WR-CALNAME:iCagenda
X-WR-CALDESC:Event Management Extension for Joomla!
X-WR-RELCALID:3E26604A-50F4-4449-8B3E-E4F4932D05B5
X-WR-TIMEZONE:UTC
BEGIN:VTIMEZONE
TZID:UTC
END:VTIMEZONE
BEGIN:VEVENT
UID:df713e89-9957-40f5-8c28-048b7cca8a6d
DTSTAMP:20260425T043058Z
CATEGORIES:Laboratori
CLASS:PUBLIC
DESCRIPTION:
DTSTART:20251125T160000Z
DTEND:20251125T160000Z
GEO:00;0
LOCATION:
ORGANIZER:
SEQUENCE:1
SUMMARY:L'arte dello stencil con il tempera o acrilico (corso a numero chiu
 so)
TRANSP:OPAQUE
URL:https://www.unitresanmauro.it/index.php/component/icagenda/159-larte-de
 llo-stencil-con-il-tempera-o-acrilico/2025-11-25-16-00
END:VEVENT
END:VCALENDAR
