BEGIN:VCALENDAR
VERSION:2.0
PRODID:-//Unitre San Mauro//NONSGML kigkonsult.se iCalcreator 2.30.10//
CALSCALE:GREGORIAN
METHOD:PUBLISH
UID:0547cda0-01fa-4806-9b0d-bf9e9133e7cc
X-WR-CALNAME:iCagenda
X-WR-CALDESC:Event Management Extension for Joomla!
X-WR-RELCALID:3E26604A-50F4-4449-8B3E-E4F4932D05B5
X-WR-TIMEZONE:UTC
BEGIN:VTIMEZONE
TZID:UTC
END:VTIMEZONE
BEGIN:VEVENT
UID:7b65a95b-8359-4c70-bf2a-e1e9aad95c33
DTSTAMP:20260424T175436Z
CATEGORIES:Laboratori
CLASS:PUBLIC
DESCRIPTION:
DTSTART:20260303T160000Z
DTEND:20260303T160000Z
GEO:00;0
LOCATION:
ORGANIZER:
SEQUENCE:1
SUMMARY:L'arte dello stencil con il tempera o acrilico (corso a numero chiu
 so)
TRANSP:OPAQUE
URL:https://www.unitresanmauro.it/index.php/component/icagenda/159-larte-de
 llo-stencil-con-il-tempera-o-acrilico/2026-03-03-16-00
END:VEVENT
END:VCALENDAR
