BEGIN:VCALENDAR
VERSION:2.0
PRODID:-//Unitre San Mauro//NONSGML kigkonsult.se iCalcreator 2.30.10//
CALSCALE:GREGORIAN
METHOD:PUBLISH
UID:8e331fc6-64e5-4dc2-b974-27b9e9ffb57a
X-WR-CALNAME:iCagenda
X-WR-CALDESC:Event Management Extension for Joomla!
X-WR-RELCALID:3E26604A-50F4-4449-8B3E-E4F4932D05B5
X-WR-TIMEZONE:UTC
BEGIN:VTIMEZONE
TZID:UTC
END:VTIMEZONE
BEGIN:VEVENT
UID:11ff17bd-c619-42cf-990b-09eecb2b963e
DTSTAMP:20260425T022912Z
CATEGORIES:Laboratori
CLASS:PUBLIC
DESCRIPTION:
DTSTART:20241126T160000Z
DTEND:20241126T160000Z
GEO:00;0
LOCATION:
ORGANIZER:
SEQUENCE:1
SUMMARY:Litighiamo giocando (come riuscire a litigare proficuamente) 1° cor
 so ( a numero chiuso)
TRANSP:OPAQUE
URL:https://www.unitresanmauro.it/index.php/component/icagenda/160-litighia
 mo-giocando-come-riuscire-a-litigare-proficuamente-1-corso-a-numero-chiuso
 /2024-11-26-16-00
END:VEVENT
END:VCALENDAR
