BEGIN:VCALENDAR
VERSION:2.0
PRODID:-//Unitre San Mauro//NONSGML kigkonsult.se iCalcreator 2.30.10//
CALSCALE:GREGORIAN
METHOD:PUBLISH
UID:d1f0ddfe-4846-4d2f-a685-215c8c01aa7c
X-WR-CALNAME:iCagenda
X-WR-CALDESC:Event Management Extension for Joomla!
X-WR-RELCALID:3E26604A-50F4-4449-8B3E-E4F4932D05B5
X-WR-TIMEZONE:UTC
BEGIN:VTIMEZONE
TZID:UTC
END:VTIMEZONE
BEGIN:VEVENT
UID:144b9355-c925-4e8e-be5d-6e4125d5a123
DTSTAMP:20260424T224949Z
CATEGORIES:Laboratori
CLASS:PUBLIC
DESCRIPTION:
DTSTART:20250121T160000Z
DTEND:20250121T180000Z
GEO:00;0
LOCATION:
ORGANIZER:
SEQUENCE:1
SUMMARY:Litighiami giocando (come riuscire a litigare proficuamente) 2° Cor
 so  (a numero chiuso)
TRANSP:OPAQUE
URL:https://www.unitresanmauro.it/index.php/component/icagenda/161-litighia
 mi-giocando-come-riuscire-a-litigare-proficuamente-2-corso-a-numero-chiuso
 /2025-01-21-16-00
END:VEVENT
END:VCALENDAR
