BEGIN:VCALENDAR
VERSION:2.0
PRODID:-//Unitre San Mauro//NONSGML kigkonsult.se iCalcreator 2.30.10//
CALSCALE:GREGORIAN
METHOD:PUBLISH
UID:d1d25b44-bbd0-4868-bcef-a664915b0566
X-WR-CALNAME:iCagenda
X-WR-CALDESC:Event Management Extension for Joomla!
X-WR-RELCALID:3E26604A-50F4-4449-8B3E-E4F4932D05B5
X-WR-TIMEZONE:UTC
BEGIN:VTIMEZONE
TZID:UTC
END:VTIMEZONE
BEGIN:VEVENT
UID:382b3e78-bd6d-45ed-aaf3-341bc5fcbc88
DTSTAMP:20260424T210745Z
CATEGORIES:Laboratori
CLASS:PUBLIC
DESCRIPTION:
DTSTART:20250218T160000Z
DTEND:20250218T160000Z
GEO:00;0
LOCATION:
ORGANIZER:
SEQUENCE:1
SUMMARY:Litighiami giocando (come riuscire a litigare proficuamente) 2° Cor
 so  (a numero chiuso)
TRANSP:OPAQUE
URL:https://www.unitresanmauro.it/index.php/component/icagenda/161-litighia
 mi-giocando-come-riuscire-a-litigare-proficuamente-2-corso-a-numero-chiuso
 /2025-02-18-16-00
END:VEVENT
END:VCALENDAR
