BEGIN:VCALENDAR
VERSION:2.0
PRODID:-//Unitre San Mauro//NONSGML kigkonsult.se iCalcreator 2.30.10//
CALSCALE:GREGORIAN
METHOD:PUBLISH
UID:6cf6ac08-4c84-48b8-ab8e-694b029751e5
X-WR-CALNAME:iCagenda
X-WR-CALDESC:Event Management Extension for Joomla!
X-WR-RELCALID:3E26604A-50F4-4449-8B3E-E4F4932D05B5
X-WR-TIMEZONE:UTC
BEGIN:VTIMEZONE
TZID:UTC
END:VTIMEZONE
BEGIN:VEVENT
UID:ca64e599-055c-48a4-9a80-c139979cee1a
DTSTAMP:20260425T003902Z
CATEGORIES:Corsi e incontri
CLASS:PUBLIC
DESCRIPTION:
DTSTART:20241211T160000Z
DTEND:20241211T160000Z
GEO:00;0
LOCATION:
ORGANIZER:
SEQUENCE:1
SUMMARY:il se intrapsichico. Introduzione alla conoscenza di se stessi. Asp
 etti clinici fra normalità e follia.
TRANSP:OPAQUE
URL:https://www.unitresanmauro.it/index.php/component/icagenda/162-il-se-in
 trapsichico-introduzione-alla-conoscenza-di-se-stessi-aspetti-clinici-fra-
 normalita-e-follia/2024-12-11-16-00
END:VEVENT
END:VCALENDAR
