BEGIN:VCALENDAR
VERSION:2.0
PRODID:-//Unitre San Mauro//NONSGML kigkonsult.se iCalcreator 2.30.10//
CALSCALE:GREGORIAN
METHOD:PUBLISH
UID:b4b4915a-95dd-4a61-a99b-9d3b33193f9c
X-WR-CALNAME:iCagenda
X-WR-CALDESC:Event Management Extension for Joomla!
X-WR-RELCALID:3E26604A-50F4-4449-8B3E-E4F4932D05B5
X-WR-TIMEZONE:UTC
BEGIN:VTIMEZONE
TZID:UTC
END:VTIMEZONE
BEGIN:VEVENT
UID:166cd12f-a21e-48e2-b4de-786f5689f247
DTSTAMP:20260424T225515Z
CATEGORIES:Corsi e incontri
CLASS:PUBLIC
DESCRIPTION:
DTSTART:20250108T160000Z
DTEND:20250108T160000Z
GEO:00;0
LOCATION:
ORGANIZER:
SEQUENCE:1
SUMMARY:il se intrapsichico. Introduzione alla conoscenza di se stessi. Asp
 etti clinici fra normalità e follia.
TRANSP:OPAQUE
URL:https://www.unitresanmauro.it/index.php/component/icagenda/162-il-se-in
 trapsichico-introduzione-alla-conoscenza-di-se-stessi-aspetti-clinici-fra-
 normalita-e-follia/2025-01-08-16-00
END:VEVENT
END:VCALENDAR
