BEGIN:VCALENDAR
VERSION:2.0
PRODID:-//Unitre San Mauro//NONSGML kigkonsult.se iCalcreator 2.30.10//
CALSCALE:GREGORIAN
METHOD:PUBLISH
UID:64a89884-e63a-4991-a46c-bf16e9a343db
X-WR-CALNAME:iCagenda
X-WR-CALDESC:Event Management Extension for Joomla!
X-WR-RELCALID:3E26604A-50F4-4449-8B3E-E4F4932D05B5
X-WR-TIMEZONE:UTC
BEGIN:VTIMEZONE
TZID:UTC
END:VTIMEZONE
BEGIN:VEVENT
UID:d2682d5a-f8b5-4119-9a1d-bc58714515b8
DTSTAMP:20260425T042134Z
CATEGORIES:Corsi e incontri
CLASS:PUBLIC
DESCRIPTION:
DTSTART:20241016T160000Z
DTEND:20241016T180000Z
GEO:00;0
LOCATION:
ORGANIZER:
SEQUENCE:1
SUMMARY:incontro con l'autore: Gianni Oliva presenta: 45 milioni di antifas
 cisti
TRANSP:OPAQUE
URL:https://www.unitresanmauro.it/index.php/component/icagenda/163-incontro
 -con-laurotr-gianni-oliva-presenta-45-milioni-di-antifascisti/2024-10-16-1
 6-00
END:VEVENT
END:VCALENDAR
