BEGIN:VCALENDAR
VERSION:2.0
PRODID:-//Unitre San Mauro//NONSGML kigkonsult.se iCalcreator 2.30.10//
CALSCALE:GREGORIAN
METHOD:PUBLISH
UID:2da2cdb8-1749-427b-bfe9-903342c806e8
X-WR-CALNAME:iCagenda
X-WR-CALDESC:Event Management Extension for Joomla!
X-WR-RELCALID:3E26604A-50F4-4449-8B3E-E4F4932D05B5
X-WR-TIMEZONE:UTC
BEGIN:VTIMEZONE
TZID:UTC
END:VTIMEZONE
BEGIN:VEVENT
UID:980e9607-a761-4573-a01d-308718d01f81
DTSTAMP:20260425T043131Z
CATEGORIES:Laboratori
CLASS:PUBLIC
DESCRIPTION:
DTSTART:20251029T160000Z
DTEND:20251029T160000Z
GEO:00;0
LOCATION:
ORGANIZER:
SEQUENCE:1
SUMMARY:Arte terapia: tecniche grafiche di meditazione creativa
TRANSP:OPAQUE
URL:https://www.unitresanmauro.it/index.php/component/icagenda/164-arte-ter
 apia-tecniche-grafiche-di-meditazione-creativa/2025-10-29-16-00
END:VEVENT
END:VCALENDAR
