BEGIN:VCALENDAR
VERSION:2.0
PRODID:-//Unitre San Mauro//NONSGML kigkonsult.se iCalcreator 2.30.10//
CALSCALE:GREGORIAN
METHOD:PUBLISH
UID:2eb65d3d-9c6a-4455-9271-1e0973f097a1
X-WR-CALNAME:iCagenda
X-WR-CALDESC:Event Management Extension for Joomla!
X-WR-RELCALID:3E26604A-50F4-4449-8B3E-E4F4932D05B5
X-WR-TIMEZONE:UTC
BEGIN:VTIMEZONE
TZID:UTC
END:VTIMEZONE
BEGIN:VEVENT
UID:4547b56e-caba-4062-9064-acbbf99caf4d
DTSTAMP:20260425T003745Z
CATEGORIES:Laboratori
CLASS:PUBLIC
DESCRIPTION:
DTSTART:20260107T160000Z
DTEND:20260107T160000Z
GEO:00;0
LOCATION:
ORGANIZER:
SEQUENCE:1
SUMMARY:Arte terapia: tecniche grafiche di meditazione creativa
TRANSP:OPAQUE
URL:https://www.unitresanmauro.it/index.php/component/icagenda/164-arte-ter
 apia-tecniche-grafiche-di-meditazione-creativa/2026-01-07-16-00
END:VEVENT
END:VCALENDAR
