BEGIN:VCALENDAR
VERSION:2.0
PRODID:-//Unitre San Mauro//NONSGML kigkonsult.se iCalcreator 2.30.10//
CALSCALE:GREGORIAN
METHOD:PUBLISH
UID:71ab5633-6761-45ad-851f-bc52438652b0
X-WR-CALNAME:iCagenda
X-WR-CALDESC:Event Management Extension for Joomla!
X-WR-RELCALID:3E26604A-50F4-4449-8B3E-E4F4932D05B5
X-WR-TIMEZONE:UTC
BEGIN:VTIMEZONE
TZID:UTC
END:VTIMEZONE
BEGIN:VEVENT
UID:5897b3ce-3134-4e90-b6e4-5bb091f3e95d
DTSTAMP:20260425T003745Z
CATEGORIES:Laboratori
CLASS:PUBLIC
DESCRIPTION:
DTSTART:20260121T160000Z
DTEND:20260121T160000Z
GEO:00;0
LOCATION:
ORGANIZER:
SEQUENCE:1
SUMMARY:Arte terapia: tecniche grafiche di meditazione creativa
TRANSP:OPAQUE
URL:https://www.unitresanmauro.it/index.php/component/icagenda/164-arte-ter
 apia-tecniche-grafiche-di-meditazione-creativa/2026-01-21-16-00
END:VEVENT
END:VCALENDAR
