BEGIN:VCALENDAR
VERSION:2.0
PRODID:-//Unitre San Mauro//NONSGML kigkonsult.se iCalcreator 2.30.10//
CALSCALE:GREGORIAN
METHOD:PUBLISH
UID:f66c1bb2-4c3d-4480-92d4-088182b2e092
X-WR-CALNAME:iCagenda
X-WR-CALDESC:Event Management Extension for Joomla!
X-WR-RELCALID:3E26604A-50F4-4449-8B3E-E4F4932D05B5
X-WR-TIMEZONE:UTC
BEGIN:VTIMEZONE
TZID:UTC
END:VTIMEZONE
BEGIN:VEVENT
UID:0fad2597-1d4b-43ef-b621-2fd155ecbde9
DTSTAMP:20260424T175517Z
CATEGORIES:Laboratori
CLASS:PUBLIC
DESCRIPTION:
DTSTART:20260304T160000Z
DTEND:20260304T160000Z
GEO:00;0
LOCATION:
ORGANIZER:
SEQUENCE:1
SUMMARY:Arte terapia: tecniche grafiche di meditazione creativa
TRANSP:OPAQUE
URL:https://www.unitresanmauro.it/index.php/component/icagenda/164-arte-ter
 apia-tecniche-grafiche-di-meditazione-creativa/2026-03-04-16-00
END:VEVENT
END:VCALENDAR
