BEGIN:VCALENDAR
VERSION:2.0
PRODID:-//Unitre San Mauro//NONSGML kigkonsult.se iCalcreator 2.30.10//
CALSCALE:GREGORIAN
METHOD:PUBLISH
UID:a01d4030-8570-4b44-b4a8-1c5a859c7bcb
X-WR-CALNAME:iCagenda
X-WR-CALDESC:Event Management Extension for Joomla!
X-WR-RELCALID:3E26604A-50F4-4449-8B3E-E4F4932D05B5
X-WR-TIMEZONE:UTC
BEGIN:VTIMEZONE
TZID:UTC
END:VTIMEZONE
BEGIN:VEVENT
UID:bd0f45b5-2767-48d0-8c31-59bbd9a174b7
DTSTAMP:20260419T135115Z
CATEGORIES:Laboratori
CLASS:PUBLIC
DESCRIPTION:
DTSTART:20260415T160000Z
DTEND:20260415T160000Z
GEO:00;0
LOCATION:
ORGANIZER:
SEQUENCE:1
SUMMARY:Arte terapia: tecniche grafiche di meditazione creativa
TRANSP:OPAQUE
URL:https://www.unitresanmauro.it/index.php/component/icagenda/164-arte-ter
 apia-tecniche-grafiche-di-meditazione-creativa/2026-04-15-16-00
END:VEVENT
END:VCALENDAR
