BEGIN:VCALENDAR
VERSION:2.0
PRODID:-//Unitre San Mauro//NONSGML kigkonsult.se iCalcreator 2.30.10//
CALSCALE:GREGORIAN
METHOD:PUBLISH
UID:c56036fb-22e4-4308-85c5-948c9265f15f
X-WR-CALNAME:iCagenda
X-WR-CALDESC:Event Management Extension for Joomla!
X-WR-RELCALID:3E26604A-50F4-4449-8B3E-E4F4932D05B5
X-WR-TIMEZONE:UTC
BEGIN:VTIMEZONE
TZID:UTC
END:VTIMEZONE
BEGIN:VEVENT
UID:0ec073d3-f155-4b4c-b51f-d652220c4939
DTSTAMP:20260424T224815Z
CATEGORIES:Corsi e incontri
CLASS:PUBLIC
DESCRIPTION:
DTSTART:20250123T160000Z
DTEND:20250123T180000Z
GEO:00;0
LOCATION:
ORGANIZER:
SEQUENCE:1
SUMMARY:Criminologia
TRANSP:OPAQUE
URL:https://www.unitresanmauro.it/index.php/component/icagenda/165-criminol
 ogia/2025-01-23-16-00
END:VEVENT
END:VCALENDAR
