BEGIN:VCALENDAR
VERSION:2.0
PRODID:-//Unitre San Mauro//NONSGML kigkonsult.se iCalcreator 2.30.10//
CALSCALE:GREGORIAN
METHOD:PUBLISH
UID:6d30b227-418c-417e-bd4d-7f8debcb602d
X-WR-CALNAME:iCagenda
X-WR-CALDESC:Event Management Extension for Joomla!
X-WR-RELCALID:3E26604A-50F4-4449-8B3E-E4F4932D05B5
X-WR-TIMEZONE:UTC
BEGIN:VTIMEZONE
TZID:UTC
END:VTIMEZONE
BEGIN:VEVENT
UID:f606ae7b-7e81-4cd0-8a4e-ebead35c3a61
DTSTAMP:20260425T042134Z
CATEGORIES:Corsi e incontri
CLASS:PUBLIC
DESCRIPTION:
DTSTART:20251023T160000Z
DTEND:20251023T180000Z
GEO:00;0
LOCATION:
ORGANIZER:
SEQUENCE:1
SUMMARY:Civiltà inglese: Britain in the 20th century - from Queen Victoria 
 to Elisabeth II (corso a numero chiuso)
TRANSP:OPAQUE
URL:https://www.unitresanmauro.it/index.php/component/icagenda/166-cultura-
 e-civilta-inglese-da-elisabetta-i-alla-rivoluzione-industriale-corso-a-num
 ero-chiuso/2025-10-23-16-00
END:VEVENT
END:VCALENDAR
