BEGIN:VCALENDAR
VERSION:2.0
PRODID:-//Unitre San Mauro//NONSGML kigkonsult.se iCalcreator 2.30.10//
CALSCALE:GREGORIAN
METHOD:PUBLISH
UID:840c7fdc-0a7e-472c-b634-46f1250d97f4
X-WR-CALNAME:iCagenda
X-WR-CALDESC:Event Management Extension for Joomla!
X-WR-RELCALID:3E26604A-50F4-4449-8B3E-E4F4932D05B5
X-WR-TIMEZONE:UTC
BEGIN:VTIMEZONE
TZID:UTC
END:VTIMEZONE
BEGIN:VEVENT
UID:2d29fe17-0daa-4975-92ba-f62a00adadc7
DTSTAMP:20260425T042134Z
CATEGORIES:Corsi e incontri
CLASS:PUBLIC
DESCRIPTION:
DTSTART:20251106T160000Z
DTEND:20251106T160000Z
GEO:00;0
LOCATION:
ORGANIZER:
SEQUENCE:1
SUMMARY:Civiltà inglese: Britain in the 20th century - from Queen Victoria 
 to Elisabeth II (corso a numero chiuso)
TRANSP:OPAQUE
URL:https://www.unitresanmauro.it/index.php/component/icagenda/166-cultura-
 e-civilta-inglese-da-elisabetta-i-alla-rivoluzione-industriale-corso-a-num
 ero-chiuso/2025-11-06-16-00
END:VEVENT
END:VCALENDAR
