BEGIN:VCALENDAR
VERSION:2.0
PRODID:-//Unitre San Mauro//NONSGML kigkonsult.se iCalcreator 2.30.10//
CALSCALE:GREGORIAN
METHOD:PUBLISH
UID:6ecb72f3-3860-4f68-8f8d-7d0089c4b8a1
X-WR-CALNAME:iCagenda
X-WR-CALDESC:Event Management Extension for Joomla!
X-WR-RELCALID:3E26604A-50F4-4449-8B3E-E4F4932D05B5
X-WR-TIMEZONE:UTC
BEGIN:VTIMEZONE
TZID:UTC
END:VTIMEZONE
BEGIN:VEVENT
UID:3d8c156f-b655-4e68-955a-af5cb9880336
DTSTAMP:20260425T003904Z
CATEGORIES:Corsi e incontri
CLASS:PUBLIC
DESCRIPTION:
DTSTART:20260115T160000Z
DTEND:20260115T160000Z
GEO:00;0
LOCATION:
ORGANIZER:
SEQUENCE:1
SUMMARY:Civiltà inglese: Britain in the 20th century - from Queen Victoria 
 to Elisabeth II (corso a numero chiuso)
TRANSP:OPAQUE
URL:https://www.unitresanmauro.it/index.php/component/icagenda/166-cultura-
 e-civilta-inglese-da-elisabetta-i-alla-rivoluzione-industriale-corso-a-num
 ero-chiuso/2026-01-15-16-00
END:VEVENT
END:VCALENDAR
