BEGIN:VCALENDAR
VERSION:2.0
PRODID:-//Unitre San Mauro//NONSGML kigkonsult.se iCalcreator 2.30.10//
CALSCALE:GREGORIAN
METHOD:PUBLISH
UID:58b151c3-1211-453c-a9a6-da724df10e20
X-WR-CALNAME:iCagenda
X-WR-CALDESC:Event Management Extension for Joomla!
X-WR-RELCALID:3E26604A-50F4-4449-8B3E-E4F4932D05B5
X-WR-TIMEZONE:UTC
BEGIN:VTIMEZONE
TZID:UTC
END:VTIMEZONE
BEGIN:VEVENT
UID:dea30b19-6672-4c73-95ee-b446cb0899b1
DTSTAMP:20260425T022902Z
CATEGORIES:Corsi e incontri
CLASS:PUBLIC
DESCRIPTION:
DTSTART:20241114T160000Z
DTEND:20241114T180000Z
GEO:00;0
LOCATION:
ORGANIZER:
SEQUENCE:1
SUMMARY:Cuore ed alimentazione
TRANSP:OPAQUE
URL:https://www.unitresanmauro.it/index.php/component/icagenda/167-cuore-ed
 -alimentazione/2024-11-14-16-00
END:VEVENT
END:VCALENDAR
