BEGIN:VCALENDAR
VERSION:2.0
PRODID:-//Unitre San Mauro//NONSGML kigkonsult.se iCalcreator 2.30.10//
CALSCALE:GREGORIAN
METHOD:PUBLISH
UID:98527d27-8277-45c2-8a21-9c32a30d6142
X-WR-CALNAME:iCagenda
X-WR-CALDESC:Event Management Extension for Joomla!
X-WR-RELCALID:3E26604A-50F4-4449-8B3E-E4F4932D05B5
X-WR-TIMEZONE:UTC
BEGIN:VTIMEZONE
TZID:UTC
END:VTIMEZONE
BEGIN:VEVENT
UID:3693e19d-82c7-40f7-8823-7ef261435bdd
DTSTAMP:20260424T175605Z
CATEGORIES:Corsi e incontri
CLASS:PUBLIC
DESCRIPTION:
DTSTART:20250410T160000Z
DTEND:20250410T160000Z
GEO:00;0
LOCATION:
ORGANIZER:
SEQUENCE:1
SUMMARY:I nostri risparmi: come preoteggerli e farli crescere
TRANSP:OPAQUE
URL:https://www.unitresanmauro.it/index.php/component/icagenda/168-i-nostri
 -risparmi-come-preoteggerli-e-farli-crescere/2025-04-10-16-00
END:VEVENT
END:VCALENDAR
