BEGIN:VCALENDAR
VERSION:2.0
PRODID:-//Unitre San Mauro//NONSGML kigkonsult.se iCalcreator 2.30.10//
CALSCALE:GREGORIAN
METHOD:PUBLISH
UID:6f6556c4-e5c6-4056-b462-5ea526e94e63
X-WR-CALNAME:iCagenda
X-WR-CALDESC:Event Management Extension for Joomla!
X-WR-RELCALID:3E26604A-50F4-4449-8B3E-E4F4932D05B5
X-WR-TIMEZONE:UTC
BEGIN:VTIMEZONE
TZID:UTC
END:VTIMEZONE
BEGIN:VEVENT
UID:e178e6b2-0b03-45e2-a237-d5f7b7975707
DTSTAMP:20260425T022915Z
CATEGORIES:Corsi e incontri
CLASS:PUBLIC
DESCRIPTION:
DTSTART:20241128T160000Z
DTEND:20241128T180000Z
GEO:00;0
LOCATION:
ORGANIZER:
SEQUENCE:1
SUMMARY:Slow chew - come la masticazione influisce sulla salute
TRANSP:OPAQUE
URL:https://www.unitresanmauro.it/index.php/component/icagenda/170-slow-che
 w-come-la-masticazione-influisce-sulla-salute/2024-11-28-16-00
END:VEVENT
END:VCALENDAR
