BEGIN:VCALENDAR
VERSION:2.0
PRODID:-//Unitre San Mauro//NONSGML kigkonsult.se iCalcreator 2.30.10//
CALSCALE:GREGORIAN
METHOD:PUBLISH
UID:8a8f146d-d8cf-46e8-bdf0-0f7acab2a8cc
X-WR-CALNAME:iCagenda
X-WR-CALDESC:Event Management Extension for Joomla!
X-WR-RELCALID:3E26604A-50F4-4449-8B3E-E4F4932D05B5
X-WR-TIMEZONE:UTC
BEGIN:VTIMEZONE
TZID:UTC
END:VTIMEZONE
BEGIN:VEVENT
UID:f845d56a-08ce-4eee-a8d4-be86a77175ae
DTSTAMP:20260425T022903Z
CATEGORIES:Corsi e incontri
CLASS:PUBLIC
DESCRIPTION:
DTSTART:20241121T160000Z
DTEND:20241121T180000Z
GEO:00;0
LOCATION:
ORGANIZER:
SEQUENCE:1
SUMMARY:Storia dell'arte
TRANSP:OPAQUE
URL:https://www.unitresanmauro.it/index.php/component/icagenda/171-storia-d
 ellarte/2024-11-21-16-00
END:VEVENT
END:VCALENDAR
