BEGIN:VCALENDAR
VERSION:2.0
PRODID:-//Unitre San Mauro//NONSGML kigkonsult.se iCalcreator 2.30.10//
CALSCALE:GREGORIAN
METHOD:PUBLISH
UID:ebc624d2-a12a-4d8a-b8ff-6bd028eaba6d
X-WR-CALNAME:iCagenda
X-WR-CALDESC:Event Management Extension for Joomla!
X-WR-RELCALID:3E26604A-50F4-4449-8B3E-E4F4932D05B5
X-WR-TIMEZONE:UTC
BEGIN:VTIMEZONE
TZID:UTC
END:VTIMEZONE
BEGIN:VEVENT
UID:62f803a2-5521-40f3-b196-4471fa457ef4
DTSTAMP:20260425T003654Z
CATEGORIES:Corsi e incontri
CLASS:PUBLIC
DESCRIPTION:
DTSTART:20241219T160000Z
DTEND:20241219T160000Z
GEO:00;0
LOCATION:
ORGANIZER:
SEQUENCE:1
SUMMARY:Storia dell'arte
TRANSP:OPAQUE
URL:https://www.unitresanmauro.it/index.php/component/icagenda/171-storia-d
 ellarte/2024-12-19-16-00
END:VEVENT
END:VCALENDAR
