BEGIN:VCALENDAR
VERSION:2.0
PRODID:-//Unitre San Mauro//NONSGML kigkonsult.se iCalcreator 2.30.10//
CALSCALE:GREGORIAN
METHOD:PUBLISH
UID:e54f20c9-7c4f-4e96-bbd1-961d30167f92
X-WR-CALNAME:iCagenda
X-WR-CALDESC:Event Management Extension for Joomla!
X-WR-RELCALID:3E26604A-50F4-4449-8B3E-E4F4932D05B5
X-WR-TIMEZONE:UTC
BEGIN:VTIMEZONE
TZID:UTC
END:VTIMEZONE
BEGIN:VEVENT
UID:8b5abb20-c45f-402f-8b55-ecad85bccba6
DTSTAMP:20260424T224819Z
CATEGORIES:Corsi e incontri
CLASS:PUBLIC
DESCRIPTION:
DTSTART:20250130T160000Z
DTEND:20250130T160000Z
GEO:00;0
LOCATION:
ORGANIZER:
SEQUENCE:1
SUMMARY:Storia dell'arte
TRANSP:OPAQUE
URL:https://www.unitresanmauro.it/index.php/component/icagenda/171-storia-d
 ellarte/2025-01-30-16-00
END:VEVENT
END:VCALENDAR
