BEGIN:VCALENDAR
VERSION:2.0
PRODID:-//Unitre San Mauro//NONSGML kigkonsult.se iCalcreator 2.30.10//
CALSCALE:GREGORIAN
METHOD:PUBLISH
UID:cc5e427b-390f-4220-9c25-dcbd049ab8c0
X-WR-CALNAME:iCagenda
X-WR-CALDESC:Event Management Extension for Joomla!
X-WR-RELCALID:3E26604A-50F4-4449-8B3E-E4F4932D05B5
X-WR-TIMEZONE:UTC
BEGIN:VTIMEZONE
TZID:UTC
END:VTIMEZONE
BEGIN:VEVENT
UID:b2ccf27d-e03e-41f0-b6d5-10e3c9893b42
DTSTAMP:20260424T210549Z
CATEGORIES:Corsi e incontri
CLASS:PUBLIC
DESCRIPTION:
DTSTART:20250227T160000Z
DTEND:20250227T160000Z
GEO:00;0
LOCATION:
ORGANIZER:
SEQUENCE:1
SUMMARY:Storia dell'arte
TRANSP:OPAQUE
URL:https://www.unitresanmauro.it/index.php/component/icagenda/171-storia-d
 ellarte/2025-02-27-16-00
END:VEVENT
END:VCALENDAR
