BEGIN:VCALENDAR
VERSION:2.0
PRODID:-//Unitre San Mauro//NONSGML kigkonsult.se iCalcreator 2.30.10//
CALSCALE:GREGORIAN
METHOD:PUBLISH
UID:af3024d6-db51-44fd-a469-66531c0dead9
X-WR-CALNAME:iCagenda
X-WR-CALDESC:Event Management Extension for Joomla!
X-WR-RELCALID:3E26604A-50F4-4449-8B3E-E4F4932D05B5
X-WR-TIMEZONE:UTC
BEGIN:VTIMEZONE
TZID:UTC
END:VTIMEZONE
BEGIN:VEVENT
UID:629f9e9f-62ba-464f-b2fd-f6ae1283b4f7
DTSTAMP:20260424T194603Z
CATEGORIES:Laboratori
CLASS:PUBLIC
DESCRIPTION:
DTSTART:20250321T160000Z
DTEND:20250321T160000Z
GEO:00;0
LOCATION:
ORGANIZER:
SEQUENCE:1
SUMMARY:Urban schekting: come dedicarsi all'arte all'aperto in compagnia
TRANSP:OPAQUE
URL:https://www.unitresanmauro.it/index.php/component/icagenda/172-urban-sc
 hekting-come-dedicarsi-allarte-allaperto-in-compagnia/2025-03-21-16-00
END:VEVENT
END:VCALENDAR
