BEGIN:VCALENDAR
VERSION:2.0
PRODID:-//Unitre San Mauro//NONSGML kigkonsult.se iCalcreator 2.30.10//
CALSCALE:GREGORIAN
METHOD:PUBLISH
UID:e0bf1564-274f-499b-9693-1b7cf237e091
X-WR-CALNAME:iCagenda
X-WR-CALDESC:Event Management Extension for Joomla!
X-WR-RELCALID:3E26604A-50F4-4449-8B3E-E4F4932D05B5
X-WR-TIMEZONE:UTC
BEGIN:VTIMEZONE
TZID:UTC
END:VTIMEZONE
BEGIN:VEVENT
UID:120207f6-321f-4fcb-913e-c2a99a111db0
DTSTAMP:20260424T175656Z
CATEGORIES:Laboratori
CLASS:PUBLIC
DESCRIPTION:
DTSTART:20250404T160000Z
DTEND:20250404T160000Z
GEO:00;0
LOCATION:
ORGANIZER:
SEQUENCE:1
SUMMARY:Urban schekting: come dedicarsi all'arte all'aperto in compagnia
TRANSP:OPAQUE
URL:https://www.unitresanmauro.it/index.php/component/icagenda/172-urban-sc
 hekting-come-dedicarsi-allarte-allaperto-in-compagnia/2025-04-04-16-00
END:VEVENT
END:VCALENDAR
