BEGIN:VCALENDAR
VERSION:2.0
PRODID:-//Unitre San Mauro//NONSGML kigkonsult.se iCalcreator 2.30.10//
CALSCALE:GREGORIAN
METHOD:PUBLISH
UID:512043f6-236b-4907-ba44-37eab86be451
X-WR-CALNAME:iCagenda
X-WR-CALDESC:Event Management Extension for Joomla!
X-WR-RELCALID:3E26604A-50F4-4449-8B3E-E4F4932D05B5
X-WR-TIMEZONE:UTC
BEGIN:VTIMEZONE
TZID:UTC
END:VTIMEZONE
BEGIN:VEVENT
UID:990f3a17-6e3a-430d-9f5f-8dcf6661cbcb
DTSTAMP:20260425T041804Z
CATEGORIES:Gite
CLASS:PUBLIC
DESCRIPTION:
DTSTART:20251111T070000Z
DTEND:20251111T200000Z
GEO:00;0
LOCATION:
ORGANIZER:
SEQUENCE:1
SUMMARY:GITA DA PROGRAMMARE
TRANSP:OPAQUE
URL:https://www.unitresanmauro.it/index.php/component/icagenda/173-gita-da-
 programmare/2025-11-11-07-00
END:VEVENT
END:VCALENDAR
