BEGIN:VCALENDAR
VERSION:2.0
PRODID:-//Unitre San Mauro//NONSGML kigkonsult.se iCalcreator 2.30.10//
CALSCALE:GREGORIAN
METHOD:PUBLISH
UID:44069622-aae0-43ac-be51-830c010cdb22
X-WR-CALNAME:iCagenda
X-WR-CALDESC:Event Management Extension for Joomla!
X-WR-RELCALID:3E26604A-50F4-4449-8B3E-E4F4932D05B5
X-WR-TIMEZONE:UTC
BEGIN:VTIMEZONE
TZID:UTC
END:VTIMEZONE
BEGIN:VEVENT
UID:a456d0d8-3dc4-4925-8973-fe7a32a5f80d
DTSTAMP:20260425T003729Z
CATEGORIES:Evento
CLASS:PUBLIC
DESCRIPTION:
DTSTART:20241220T160000Z
DTEND:20241220T180000Z
GEO:00;0
LOCATION:
ORGANIZER:
SEQUENCE:1
SUMMARY:SCAMBIO AUGURI DI NATALE
TRANSP:OPAQUE
URL:https://www.unitresanmauro.it/index.php/component/icagenda/174-scambio-
 auguri-di-natale/2024-12-20-16-00
END:VEVENT
END:VCALENDAR
