BEGIN:VCALENDAR
VERSION:2.0
PRODID:-//Unitre San Mauro//NONSGML kigkonsult.se iCalcreator 2.30.10//
CALSCALE:GREGORIAN
METHOD:PUBLISH
UID:7c007563-184a-4089-8816-358a63a265cf
X-WR-CALNAME:iCagenda
X-WR-CALDESC:Event Management Extension for Joomla!
X-WR-RELCALID:3E26604A-50F4-4449-8B3E-E4F4932D05B5
X-WR-TIMEZONE:UTC
BEGIN:VTIMEZONE
TZID:UTC
END:VTIMEZONE
BEGIN:VEVENT
UID:9092fd70-9754-415f-b737-f7cac7135a37
DTSTAMP:20260424T194506Z
CATEGORIES:Laboratori
CLASS:PUBLIC
DESCRIPTION:
DTSTART:20250507T093000Z
DTEND:20250507T173000Z
GEO:00;0
LOCATION:
ORGANIZER:
SEQUENCE:1
SUMMARY:PREPARAZIONE MOSTRA LAVORI DI FINE ANNO
TRANSP:OPAQUE
URL:https://www.unitresanmauro.it/index.php/component/icagenda/178-preparaz
 ione-mostra-lavori-di-fine-anno/2025-05-07-09-30
END:VEVENT
END:VCALENDAR
