BEGIN:VCALENDAR
VERSION:2.0
PRODID:-//Unitre San Mauro//NONSGML kigkonsult.se iCalcreator 2.30.10//
CALSCALE:GREGORIAN
METHOD:PUBLISH
UID:934fb7e6-b37d-44f5-aa36-8a0f2de45738
X-WR-CALNAME:iCagenda
X-WR-CALDESC:Event Management Extension for Joomla!
X-WR-RELCALID:3E26604A-50F4-4449-8B3E-E4F4932D05B5
X-WR-TIMEZONE:UTC
BEGIN:VTIMEZONE
TZID:UTC
END:VTIMEZONE
BEGIN:VEVENT
UID:bf58a9d5-d953-48f6-bb84-d9dbdace332e
DTSTAMP:20260424T194346Z
CATEGORIES:Evento
CLASS:PUBLIC
DESCRIPTION:
DTSTART:20250508T093000Z
DTEND:20250508T093000Z
GEO:00;0
LOCATION:
ORGANIZER:
SEQUENCE:1
SUMMARY:MOSTRA LAVORI DEI VARI LABORATORI
TRANSP:OPAQUE
URL:https://www.unitresanmauro.it/index.php/component/icagenda/179-mostra-l
 avori-dei-vari-laboratori/2025-05-08-09-30
END:VEVENT
END:VCALENDAR
