BEGIN:VCALENDAR
VERSION:2.0
PRODID:-//Unitre San Mauro//NONSGML kigkonsult.se iCalcreator 2.30.10//
CALSCALE:GREGORIAN
METHOD:PUBLISH
UID:f508a634-c0d1-4080-9acf-6bf1d0762faa
X-WR-CALNAME:iCagenda
X-WR-CALDESC:Event Management Extension for Joomla!
X-WR-RELCALID:3E26604A-50F4-4449-8B3E-E4F4932D05B5
X-WR-TIMEZONE:UTC
BEGIN:VTIMEZONE
TZID:UTC
END:VTIMEZONE
BEGIN:VEVENT
UID:3f51fc9a-81f7-4d58-b6f7-2a91d261b42c
DTSTAMP:20260424T194447Z
CATEGORIES:Evento
CLASS:PUBLIC
DESCRIPTION:
DTSTART:20250509T160000Z
DTEND:20250509T180000Z
GEO:00;0
LOCATION:
ORGANIZER:
SEQUENCE:1
SUMMARY:CHIUSURA ANNO ACCADEMICO
TRANSP:OPAQUE
URL:https://www.unitresanmauro.it/index.php/component/icagenda/180-chiusura
 -anno-accademico/2025-05-09-16-00
END:VEVENT
END:VCALENDAR
