BEGIN:VCALENDAR
VERSION:2.0
PRODID:-//Unitre San Mauro//NONSGML kigkonsult.se iCalcreator 2.30.10//
CALSCALE:GREGORIAN
METHOD:PUBLISH
UID:8aae82ad-b688-4be2-bd74-aecf5d925f95
X-WR-CALNAME:iCagenda
X-WR-CALDESC:Event Management Extension for Joomla!
X-WR-RELCALID:3E26604A-50F4-4449-8B3E-E4F4932D05B5
X-WR-TIMEZONE:UTC
BEGIN:VTIMEZONE
TZID:UTC
END:VTIMEZONE
BEGIN:VEVENT
UID:76ed850f-e9ec-4b8a-9a18-fc089b1049ed
DTSTAMP:20260424T194508Z
CATEGORIES:Evento
CLASS:PUBLIC
DESCRIPTION:
DTSTART:20250506T160000Z
DTEND:20250506T180000Z
GEO:00;0
LOCATION:
ORGANIZER:
SEQUENCE:1
SUMMARY:Spettacolo a cura dei corsi 'Laboratorio Teatrale ' e ' Insieme con
  il Canto'
TRANSP:OPAQUE
URL:https://www.unitresanmauro.it/index.php/component/icagenda/182-spettaco
 lo-a-cura-dei-corsi-laboratorio-teatrale-e-insieme-con-il-canto/2025-05-06
 -16-00
END:VEVENT
END:VCALENDAR
