BEGIN:VCALENDAR
VERSION:2.0
PRODID:-//Unitre San Mauro//NONSGML kigkonsult.se iCalcreator 2.30.10//
CALSCALE:GREGORIAN
METHOD:PUBLISH
UID:52150ff2-d422-4edc-91d3-6a23b0d11115
X-WR-CALNAME:iCagenda
X-WR-CALDESC:Event Management Extension for Joomla!
X-WR-RELCALID:3E26604A-50F4-4449-8B3E-E4F4932D05B5
X-WR-TIMEZONE:UTC
BEGIN:VTIMEZONE
TZID:UTC
END:VTIMEZONE
BEGIN:VEVENT
UID:f5470c65-0b6c-42c1-8018-0b1070f90b50
DTSTAMP:20260425T003802Z
CATEGORIES:Attività e movimento
CLASS:PUBLIC
DESCRIPTION:
DTSTART:20260121T150000Z
DTEND:20260121T150000Z
GEO:00;0
LOCATION:
ORGANIZER:
SEQUENCE:1
SUMMARY:Pilates -  ( corso a numero chiuso) - c/o Piscina Gramsci\, via del
  porto 13\, San Mauro - Palestra Piccola
TRANSP:OPAQUE
URL:https://www.unitresanmauro.it/index.php/component/icagenda/183-pilates-
 palestra-c-o-piscina-gramsci-v-del-porto-13/2026-01-21-15-00
END:VEVENT
END:VCALENDAR
