BEGIN:VCALENDAR
VERSION:2.0
PRODID:-//Unitre San Mauro//NONSGML kigkonsult.se iCalcreator 2.30.10//
CALSCALE:GREGORIAN
METHOD:PUBLISH
UID:f73b9f5c-5d86-4d3e-9e71-60c2fc13f9cf
X-WR-CALNAME:iCagenda
X-WR-CALDESC:Event Management Extension for Joomla!
X-WR-RELCALID:3E26604A-50F4-4449-8B3E-E4F4932D05B5
X-WR-TIMEZONE:UTC
BEGIN:VTIMEZONE
TZID:UTC
END:VTIMEZONE
BEGIN:VEVENT
UID:a9e70477-7f05-4a0a-a18e-319de659927c
DTSTAMP:20260419T142752Z
CATEGORIES:Attività e movimento
CLASS:PUBLIC
DESCRIPTION:
DTSTART:20260415T150000Z
DTEND:20260415T150000Z
GEO:00;0
LOCATION:
ORGANIZER:
SEQUENCE:1
SUMMARY:Pilates -  ( corso a numero chiuso) - c/o Piscina Gramsci\, via del
  porto 13\, San Mauro - Palestra Piccola
TRANSP:OPAQUE
URL:https://www.unitresanmauro.it/index.php/component/icagenda/183-pilates-
 palestra-c-o-piscina-gramsci-v-del-porto-13/2026-04-15-15-00
END:VEVENT
END:VCALENDAR
