BEGIN:VCALENDAR
VERSION:2.0
PRODID:-//Unitre San Mauro//NONSGML kigkonsult.se iCalcreator 2.30.10//
CALSCALE:GREGORIAN
METHOD:PUBLISH
UID:73b0a0ae-8a70-4760-ba7a-e68d79c19487
X-WR-CALNAME:iCagenda
X-WR-CALDESC:Event Management Extension for Joomla!
X-WR-RELCALID:3E26604A-50F4-4449-8B3E-E4F4932D05B5
X-WR-TIMEZONE:UTC
BEGIN:VTIMEZONE
TZID:UTC
END:VTIMEZONE
BEGIN:VEVENT
UID:c8ac9bdb-e1eb-4995-a3b4-edc4d12a5121
DTSTAMP:20260425T043132Z
CATEGORIES:Corsi e incontri
CLASS:PUBLIC
DESCRIPTION:
DTSTART:20251124T093000Z
DTEND:20251124T093000Z
GEO:00;0
LOCATION:
ORGANIZER:
SEQUENCE:1
SUMMARY:Cultura y historia espanola (corso a numero chiuso)
TRANSP:OPAQUE
URL:https://www.unitresanmauro.it/index.php/component/icagenda/184-cultura-
 y-historia-espanola-corso-a-numero-chiuso/2025-11-24-09-30
END:VEVENT
END:VCALENDAR
