BEGIN:VCALENDAR
VERSION:2.0
PRODID:-//Unitre San Mauro//NONSGML kigkonsult.se iCalcreator 2.30.10//
CALSCALE:GREGORIAN
METHOD:PUBLISH
UID:d2b432ac-721a-4109-8f37-84b1e91bca6d
X-WR-CALNAME:iCagenda
X-WR-CALDESC:Event Management Extension for Joomla!
X-WR-RELCALID:3E26604A-50F4-4449-8B3E-E4F4932D05B5
X-WR-TIMEZONE:UTC
BEGIN:VTIMEZONE
TZID:UTC
END:VTIMEZONE
BEGIN:VEVENT
UID:6df08f08-97bc-4332-beba-0fa27428925d
DTSTAMP:20260422T150510Z
CATEGORIES:Corsi e incontri
CLASS:PUBLIC
DESCRIPTION:
DTSTART:20260430T160000Z
DTEND:20260430T160000Z
GEO:00;0
LOCATION:
ORGANIZER:
SEQUENCE:1
SUMMARY:I reportages fotografici di ... Pasquale
TRANSP:OPAQUE
URL:https://www.unitresanmauro.it/index.php/component/icagenda/185-i-report
 ages-fotografici-di-pasquale
END:VEVENT
END:VCALENDAR
