BEGIN:VCALENDAR
VERSION:2.0
PRODID:-//Unitre San Mauro//NONSGML kigkonsult.se iCalcreator 2.30.10//
CALSCALE:GREGORIAN
METHOD:PUBLISH
UID:2095b427-894d-4be9-afcd-d7e170819723
X-WR-CALNAME:iCagenda
X-WR-CALDESC:Event Management Extension for Joomla!
X-WR-RELCALID:3E26604A-50F4-4449-8B3E-E4F4932D05B5
X-WR-TIMEZONE:UTC
BEGIN:VTIMEZONE
TZID:UTC
END:VTIMEZONE
BEGIN:VEVENT
UID:57ae4e45-8270-49eb-8c2c-3828dd21af1e
DTSTAMP:20260425T043133Z
CATEGORIES:Corsi e incontri
CLASS:PUBLIC
DESCRIPTION:
DTSTART:20251027T160000Z
DTEND:20251027T160000Z
GEO:00;0
LOCATION:
ORGANIZER:
SEQUENCE:1
SUMMARY:Contaminazione e Crossover: dalla musica popolare a quella classica
  e viceversa
TRANSP:OPAQUE
URL:https://www.unitresanmauro.it/index.php/component/icagenda/186-contamin
 azione-e-crossover-dalla-musica-popolare-a-quella-classica-e-viceversa/202
 5-10-27-16-00
END:VEVENT
END:VCALENDAR
