BEGIN:VCALENDAR
VERSION:2.0
PRODID:-//Unitre San Mauro//NONSGML kigkonsult.se iCalcreator 2.30.10//
CALSCALE:GREGORIAN
METHOD:PUBLISH
UID:f0e86180-4e8b-4c33-b297-57e05a1b90d5
X-WR-CALNAME:iCagenda
X-WR-CALDESC:Event Management Extension for Joomla!
X-WR-RELCALID:3E26604A-50F4-4449-8B3E-E4F4932D05B5
X-WR-TIMEZONE:UTC
BEGIN:VTIMEZONE
TZID:UTC
END:VTIMEZONE
BEGIN:VEVENT
UID:b5183f75-8d1f-4b3d-9022-dd7270ab30dd
DTSTAMP:20260425T043134Z
CATEGORIES:Corsi e incontri
CLASS:PUBLIC
DESCRIPTION:
DTSTART:20251110T160000Z
DTEND:20251110T160000Z
GEO:00;0
LOCATION:
ORGANIZER:
SEQUENCE:1
SUMMARY:Contaminazione e Crossover: dalla musica popolare a quella classica
  e viceversa
TRANSP:OPAQUE
URL:https://www.unitresanmauro.it/index.php/component/icagenda/186-contamin
 azione-e-crossover-dalla-musica-popolare-a-quella-classica-e-viceversa/202
 5-11-10-16-00
END:VEVENT
END:VCALENDAR
