BEGIN:VCALENDAR
VERSION:2.0
PRODID:-//Unitre San Mauro//NONSGML kigkonsult.se iCalcreator 2.30.10//
CALSCALE:GREGORIAN
METHOD:PUBLISH
UID:f872bab7-3d36-4387-86b1-179e23455101
X-WR-CALNAME:iCagenda
X-WR-CALDESC:Event Management Extension for Joomla!
X-WR-RELCALID:3E26604A-50F4-4449-8B3E-E4F4932D05B5
X-WR-TIMEZONE:UTC
BEGIN:VTIMEZONE
TZID:UTC
END:VTIMEZONE
BEGIN:VEVENT
UID:853994a5-0d03-4ff7-a16e-caa1da412849
DTSTAMP:20260425T003746Z
CATEGORIES:Corsi e incontri
CLASS:PUBLIC
DESCRIPTION:
DTSTART:20260119T160000Z
DTEND:20260119T160000Z
GEO:00;0
LOCATION:
ORGANIZER:
SEQUENCE:1
SUMMARY:Contaminazione e Crossover: dalla musica popolare a quella classica
  e viceversa
TRANSP:OPAQUE
URL:https://www.unitresanmauro.it/index.php/component/icagenda/186-contamin
 azione-e-crossover-dalla-musica-popolare-a-quella-classica-e-viceversa/202
 6-01-19-16-00
END:VEVENT
END:VCALENDAR
