BEGIN:VCALENDAR
VERSION:2.0
PRODID:-//Unitre San Mauro//NONSGML kigkonsult.se iCalcreator 2.30.10//
CALSCALE:GREGORIAN
METHOD:PUBLISH
UID:7b2a12e6-9e9c-474d-978f-f7db79074aef
X-WR-CALNAME:iCagenda
X-WR-CALDESC:Event Management Extension for Joomla!
X-WR-RELCALID:3E26604A-50F4-4449-8B3E-E4F4932D05B5
X-WR-TIMEZONE:UTC
BEGIN:VTIMEZONE
TZID:UTC
END:VTIMEZONE
BEGIN:VEVENT
UID:6155f334-dc45-4e25-95de-9914961bb9e6
DTSTAMP:20260424T174923Z
CATEGORIES:Corsi e incontri
CLASS:PUBLIC
DESCRIPTION:
DTSTART:20260330T160000Z
DTEND:20260330T160000Z
GEO:00;0
LOCATION:
ORGANIZER:
SEQUENCE:1
SUMMARY:Contaminazione e Crossover: dalla musica popolare a quella classica
  e viceversa
TRANSP:OPAQUE
URL:https://www.unitresanmauro.it/index.php/component/icagenda/186-contamin
 azione-e-crossover-dalla-musica-popolare-a-quella-classica-e-viceversa/202
 6-03-30-16-00
END:VEVENT
END:VCALENDAR
